BEGIN:VCALENDAR
VERSION:2.0
PRODID:-//Bogeys Buddies - Bartow Rescue and Resources - ECPv6.15.20//NONSGML v1.0//EN
CALSCALE:GREGORIAN
METHOD:PUBLISH
X-WR-CALNAME:Bogeys Buddies - Bartow Rescue and Resources
X-ORIGINAL-URL:https://bogeysbuddies.org/es
X-WR-CALDESC:Eventos para Bogeys Buddies - Bartow Rescue and Resources
REFRESH-INTERVAL;VALUE=DURATION:PT1H
X-Robots-Tag:noindex
X-PUBLISHED-TTL:PT1H
BEGIN:VTIMEZONE
TZID:America/Halifax
BEGIN:DAYLIGHT
TZOFFSETFROM:-0400
TZOFFSETTO:-0300
TZNAME:ADT
DTSTART:20250309T060000
END:DAYLIGHT
BEGIN:STANDARD
TZOFFSETFROM:-0300
TZOFFSETTO:-0400
TZNAME:AST
DTSTART:20251102T050000
END:STANDARD
BEGIN:DAYLIGHT
TZOFFSETFROM:-0400
TZOFFSETTO:-0300
TZNAME:ADT
DTSTART:20260308T060000
END:DAYLIGHT
BEGIN:STANDARD
TZOFFSETFROM:-0300
TZOFFSETTO:-0400
TZNAME:AST
DTSTART:20261101T050000
END:STANDARD
BEGIN:DAYLIGHT
TZOFFSETFROM:-0400
TZOFFSETTO:-0300
TZNAME:ADT
DTSTART:20270314T060000
END:DAYLIGHT
BEGIN:STANDARD
TZOFFSETFROM:-0300
TZOFFSETTO:-0400
TZNAME:AST
DTSTART:20271107T050000
END:STANDARD
END:VTIMEZONE
BEGIN:VEVENT
DTSTART;TZID=America/Halifax:20260418T180000
DTEND;TZID=America/Halifax:20260418T220000
DTSTAMP:20260424T135217
CREATED:20260411T025417Z
LAST-MODIFIED:20260411T120537Z
UID:3146-1776535200-1776549600@bogeysbuddies.org
SUMMARY:2nd Annual Rescues & Revelry Masquerade Gala
DESCRIPTION:
URL:https://bogeysbuddies.org/es/event/rescues-and-revelry/
LOCATION:Goodyear Clubhouse\, Atco\, 3 Goodyear Avenue\, Cartersville\, GA
CATEGORIES:Fundraiser
END:VEVENT
BEGIN:VEVENT
DTSTART;TZID=America/Halifax:20260418T120000
DTEND;TZID=America/Halifax:20260418T200000
DTSTAMP:20260424T135217
CREATED:20260411T024700Z
LAST-MODIFIED:20260411T120548Z
UID:3141-1776513600-1776542400@bogeysbuddies.org
SUMMARY:BBQ & Brews
DESCRIPTION:
URL:https://bogeysbuddies.org/es/event/bbq-brews-april-18-2026/
LOCATION:Downtown Cartersville
CATEGORIES:Adoption Event,Bogey's Boutique
END:VEVENT
BEGIN:VEVENT
DTSTART;TZID=America/Halifax:20260412T120000
DTEND;TZID=America/Halifax:20260412T160000
DTSTAMP:20260424T135217
CREATED:20260411T023610Z
LAST-MODIFIED:20260411T030316Z
UID:3130-1775995200-1776009600@bogeysbuddies.org
SUMMARY:Petsmart Adoption Event
DESCRIPTION:
URL:https://bogeysbuddies.org/es/event/petsmart-april-12-2026/
LOCATION:PetSmart Cartersville
CATEGORIES:Adoption Event
END:VEVENT
END:VCALENDAR