BEGIN:VCALENDAR
VERSION:2.0
PRODID:-//Bogeys Buddies - Bartow Rescue and Resources - ECPv6.15.20//NONSGML v1.0//EN
CALSCALE:GREGORIAN
METHOD:PUBLISH
X-WR-CALNAME:Bogeys Buddies - Bartow Rescue and Resources
X-ORIGINAL-URL:https://bogeysbuddies.org/es
X-WR-CALDESC:Eventos para Bogeys Buddies - Bartow Rescue and Resources
REFRESH-INTERVAL;VALUE=DURATION:PT1H
X-Robots-Tag:noindex
X-PUBLISHED-TTL:PT1H
BEGIN:VTIMEZONE
TZID:America/New_York
BEGIN:DAYLIGHT
TZOFFSETFROM:-0500
TZOFFSETTO:-0400
TZNAME:EDT
DTSTART:20250309T070000
END:DAYLIGHT
BEGIN:STANDARD
TZOFFSETFROM:-0400
TZOFFSETTO:-0500
TZNAME:EST
DTSTART:20251102T060000
END:STANDARD
BEGIN:DAYLIGHT
TZOFFSETFROM:-0500
TZOFFSETTO:-0400
TZNAME:EDT
DTSTART:20260308T070000
END:DAYLIGHT
BEGIN:STANDARD
TZOFFSETFROM:-0400
TZOFFSETTO:-0500
TZNAME:EST
DTSTART:20261101T060000
END:STANDARD
BEGIN:DAYLIGHT
TZOFFSETFROM:-0500
TZOFFSETTO:-0400
TZNAME:EDT
DTSTART:20270314T070000
END:DAYLIGHT
BEGIN:STANDARD
TZOFFSETFROM:-0400
TZOFFSETTO:-0500
TZNAME:EST
DTSTART:20271107T060000
END:STANDARD
END:VTIMEZONE
BEGIN:VTIMEZONE
TZID:America/Halifax
BEGIN:DAYLIGHT
TZOFFSETFROM:-0400
TZOFFSETTO:-0300
TZNAME:ADT
DTSTART:20250309T060000
END:DAYLIGHT
BEGIN:STANDARD
TZOFFSETFROM:-0300
TZOFFSETTO:-0400
TZNAME:AST
DTSTART:20251102T050000
END:STANDARD
BEGIN:DAYLIGHT
TZOFFSETFROM:-0400
TZOFFSETTO:-0300
TZNAME:ADT
DTSTART:20260308T060000
END:DAYLIGHT
BEGIN:STANDARD
TZOFFSETFROM:-0300
TZOFFSETTO:-0400
TZNAME:AST
DTSTART:20261101T050000
END:STANDARD
BEGIN:DAYLIGHT
TZOFFSETFROM:-0400
TZOFFSETTO:-0300
TZNAME:ADT
DTSTART:20270314T060000
END:DAYLIGHT
BEGIN:STANDARD
TZOFFSETFROM:-0300
TZOFFSETTO:-0400
TZNAME:AST
DTSTART:20271107T050000
END:STANDARD
END:VTIMEZONE
BEGIN:VEVENT
DTSTART;TZID=America/New_York:20260425T120000
DTEND;TZID=America/New_York:20260425T160000
DTSTAMP:20260424T115832
CREATED:20260411T115119Z
LAST-MODIFIED:20260411T120611Z
UID:3155-1777118400-1777132800@bogeysbuddies.org
SUMMARY:Qualusi Budbreak Vendor Market and Adoption Event
DESCRIPTION:
URL:https://bogeysbuddies.org/es/event/qualusi-04-25-26/
LOCATION:Qualusi Vineyards
CATEGORIES:Adoption Event,Bogey's Boutique
END:VEVENT
BEGIN:VEVENT
DTSTART;TZID=America/Halifax:20260430T160000
DTEND;TZID=America/Halifax:20260430T190000
DTSTAMP:20260424T115832
CREATED:20260411T030125Z
LAST-MODIFIED:20260411T030249Z
UID:3150-1777564800-1777575600@bogeysbuddies.org
SUMMARY:National Adoption Day
DESCRIPTION:
URL:https://bogeysbuddies.org/es/event/courtyard-marriott/
LOCATION:Courtyard by Marriott\, Cartersville\, GA
CATEGORIES:Adoption Event
END:VEVENT
BEGIN:VEVENT
DTSTART;TZID=America/New_York:20260503T120000
DTEND;TZID=America/New_York:20260503T190000
DTSTAMP:20260424T115832
CREATED:20260411T120956Z
LAST-MODIFIED:20260411T120956Z
UID:3167-1777809600-1777834800@bogeysbuddies.org
SUMMARY:Intercultural Fest - Downtown Cartersville
DESCRIPTION:
URL:https://bogeysbuddies.org/es/event/intercultural-fest-05-03-26/
LOCATION:Downtown Cartersville
CATEGORIES:Adoption Event,Bogey's Boutique
END:VEVENT
BEGIN:VEVENT
DTSTART;TZID=America/New_York:20260510T120000
DTEND;TZID=America/New_York:20260510T160000
DTSTAMP:20260424T115832
CREATED:20260411T121210Z
LAST-MODIFIED:20260411T121210Z
UID:3169-1778414400-1778428800@bogeysbuddies.org
SUMMARY:PetSmart Adoption Event May 10\, 2026
DESCRIPTION:
URL:https://bogeysbuddies.org/es/event/petsmart-adoption-event-may-10-2026/
LOCATION:PetSmart Cartersville
CATEGORIES:Adoption Event
END:VEVENT
BEGIN:VEVENT
DTSTART;TZID=America/New_York:20260516T100000
DTEND;TZID=America/New_York:20260516T163000
DTSTAMP:20260424T115832
CREATED:20260411T120430Z
LAST-MODIFIED:20260411T120430Z
UID:3165-1778925600-1778949000@bogeysbuddies.org
SUMMARY:Ridz By the River
DESCRIPTION:
URL:https://bogeysbuddies.org/es/event/ridz-by-the-river-2026/
CATEGORIES:Adoption Event,Bogey's Boutique
END:VEVENT
END:VCALENDAR